BEGIN:VCALENDAR
VERSION:2.0
PRODID:-//hacksw/handcal//NONSGML v1.0//EN
BEGIN:VEVENT
SUMMARY:Groupe Amical - Le Plantay - ND des Dombes
UID:ae2c1418-8fb0-4d9f-9b99-a6417f4e5bf6
DTSTART:20260423T110000Z
DTEND:20260423T160000Z
LOCATION:Localisation   
CATEGORIES:Sportif
STATUS:
DESCRIPTION:<p>Que diriez-vous d'une belle balade dans la Dombes
 jusqu'a ND des Dombes ?</p>
 
 <p>Si necessaire, il est possible
 d'avancer le depart et de le fixer a 13h00...</p>
 
 <p>OR :  <a
 href="https://www.openrunner.com/route-details/22745538"
 onclick="window.open(this.href, '',
 'resizable=no,status=no,location=no,toolbar=no,menubar=no,fullscreen=yes,scrollbars=no,dependent=no');
 return false;">22745538</a></p>
URL;VALUE=URI:https://www.ac3f.com/evenements/2026/04/23/groupe-amical-le-plantay-nd-des-dombes-2443150
END:VEVENT
END:VCALENDAR
