BEGIN:VCALENDAR
VERSION:2.0
PRODID:-//hacksw/handcal//NONSGML v1.0//EN
BEGIN:VEVENT
SUMMARY:Groupe Amical - Perouges
UID:58293dc8-bb28-4343-ac69-cabd2746933f
DTSTART:20260421T113000Z
DTEND:20260421T160000Z
LOCATION:Localisation   
CATEGORIES:Sportif
STATUS:
DESCRIPTION:<p>Demain, nous irons a Perouges (78km et D+600M)...
 peut-etre y degusterons-nous la fameuse galette ?</p>
 
 <p>Rendez-vous
 a FSM a 13h30  </p>
 
 <p>OR : <a
 href="https://www.openrunner.com/route-details/19768026"
 onclick="window.open(this.href, '',
 'resizable=no,status=no,location=no,toolbar=no,menubar=no,fullscreen=yes,scrollbars=no,dependent=no');
 return false;">19768026</a></p>
URL;VALUE=URI:https://www.ac3f.com/evenements/2026/04/21/groupe-amical-perouges-2443149
END:VEVENT
END:VCALENDAR
