BEGIN:VCALENDAR
VERSION:2.0
PRODID:-//hacksw/handcal//NONSGML v1.0//EN
BEGIN:VEVENT
SUMMARY:Groupe 3
UID:041c836a-d9a0-4baf-9d47-d5268e399ffd
DTSTART:20260421T113000Z
DTEND:20260421T160000Z
LOCATION:Localisation place de la salle des fetes 69270 Fontaines st Martin
CATEGORIES:Sportif
STATUS:
DESCRIPTION:<p>Pour ce mardi j'ai besoin de reduire un peu la
 distance. Je vous propose ce parcours dans le Beaujolais qui passe
 par Anse Lachassagne Pouilly le Monial - Retour par Morance et Les
 Cheres</p>
 
 <p>OR : <a
 href="https://www.openrunner.com/route-details/23850825">23850825</a> -
 64 km - 716 m D+</p>
 
 <p>Ceux qui souhaitent en faire plus pourront
 decider de monter a Theize et Charnay, voire a Oingt.</p>
 
 <p>Pierre
 L.</p>
URL;VALUE=URI:https://www.ac3f.com/evenements/2026/04/21/groupe-3-2442017
END:VEVENT
END:VCALENDAR
