BEGIN:VCALENDAR
VERSION:2.0
PRODID:-//hacksw/handcal//NONSGML v1.0//EN
BEGIN:VEVENT
SUMMARY:Groupe 2 : Cogny, Oingt
UID:b89a6cbc-803d-459b-8e95-0280e02d51e9
DTSTART:20260421T113000Z
DTEND:20260421T160000Z
LOCATION:Localisation   
CATEGORIES:Sportif
STATUS:
DESCRIPTION:<p>Encore un super temps pour faire du velo :
 profitons-en !</p>
 
 <p>Je vous propose le parcours <a
 href="https://www.openrunner.com/route-details/8759499"
 target="_blank">OR759499</a> : 88km pour 1020m+</p>
 
 <p>Depart FSM
 13h30 ; retour prevu 18h.</p>
 
 <p>Merci de vous
 annoncer</p>
 
 <p>Bruno</p>
URL;VALUE=URI:https://www.ac3f.com/evenements/2026/04/21/groupe-2-cogny-oingt-2443029
END:VEVENT
END:VCALENDAR
