BEGIN:VCALENDAR
VERSION:2.0
PRODID:-//hacksw/handcal//NONSGML v1.0//EN
BEGIN:VEVENT
SUMMARY:Groupe 1 : depart 13h00
UID:29d51963-fea6-4fa5-b858-9506d76b2824
DTSTART:20260421T110000Z
DTEND:20260421T150000Z
LOCATION:Localisation   
CATEGORIES:Sportif
STATUS:
DESCRIPTION:<p>En l'absence de Jean-Michel, Sylvain vous propose une
 sortie.</p>
 
 <p>Parcours <a
 href="https://www.openrunner.com/route-details/23842364"
 target="_blank">OR23842364</a> : 88km pour 560m+</p>
 
 <p>Depart FSM
 13h ; retour prevu 17h, voire bien avant.</p>
 
 <p>Merci de vous
 annoncer</p>
 
 <p>Bruno (S/C Sylvain)</p>
 
 <p> </p>
URL;VALUE=URI:https://www.ac3f.com/evenements/2026/04/21/groupe-1-depart-13h00-2443407
END:VEVENT
END:VCALENDAR
