BEGIN:VCALENDAR
VERSION:2.0
PRODID:-//hacksw/handcal//NONSGML v1.0//EN
BEGIN:VEVENT
SUMMARY:Sortie groupe 3
UID:973219ef-4a57-48ce-8669-7da9d07b330a
DTSTART:20260402T113000Z
DTEND:20260402T150000Z
LOCATION:Localisation place de la salle des fetes 69270 Fontaines st Martin
CATEGORIES:Sportif
STATUS:
DESCRIPTION:<p>demain, on ne transpire pas, mais un peu moins de
 vent, je propose un petit parcours, a l'abri du vent, on fera plus
 samedi</p>
 
 <p>le no Or cet apres midi</p>
 
 <p>No/<a
 href="https://www.openrunner.com/route-details/20357704"
 onclick="window.open(this.href, '',
 'resizable=no,status=no,location=no,toolbar=no,menubar=no,fullscreen=yes,scrollbars=no,dependent=no');
 return false;"> 20357704</a>  52km 527d+</p>
 
 <p><span
 style="color:#e74c3c;">Parcours a l'envers avec le denivele a la fin
 no Or  </span><a
 href="https://www.openrunner.com/route-details/23695883"
 onclick="window.open(this.href, '',
 'resizable=no,status=no,location=no,toolbar=no,menubar=no,fullscreen=yes,scrollbars=no,dependent=no');
 return false;"><span
 style="color:#e74c3c;">/23695883 </span></a></p>
URL;VALUE=URI:https://www.ac3f.com/evenements/2026/04/02/sortie-groupe-3-2436216
END:VEVENT
END:VCALENDAR
