BEGIN:VCALENDAR
VERSION:2.0
PRODID:-//hacksw/handcal//NONSGML v1.0//EN
BEGIN:VEVENT
SUMMARY:Groupe Amical - L'arboretum
UID:1a8c247a-f33b-42c0-9575-b0832b567a3d
DTSTART:20260402T113000Z
DTEND:20260402T153000Z
LOCATION:Localisation   
CATEGORIES:Sportif
STATUS:
DESCRIPTION:<p>Le vent du Nord devrait encore bien souffler, aussi,
 nous avons trouve un circuit pas trop expose...</p>
 
 <p>Nous irons a
 l'arboretum avant de rejoindre Ste Croix, Romaneche et
 Mionnay...</p>
 
 <p>OR <a
 href="https://www.openrunner.com/route-details/20203556"
 onclick="window.open(this.href, '',
 'resizable=no,status=no,location=no,toolbar=no,menubar=no,fullscreen=yes,scrollbars=no,dependent=no');
 return false;">20203556</a> soit de FSM a FSM : 54 km et
 D+499m</p>
 
 <p>Rendez-vous a 13h30 a FSM</p>
 
 <p> </p>
URL;VALUE=URI:https://www.ac3f.com/evenements/2026/04/02/groupe-amical-larboretum-2435518
END:VEVENT
END:VCALENDAR
