BEGIN:VCALENDAR
VERSION:2.0
PRODID:-//hacksw/handcal//NONSGML v1.0//EN
BEGIN:VEVENT
SUMMARY:Groupe 2 : un petit tour pour prendre l'air !
UID:c9fd0eb0-7b71-4630-b95b-a90239ed5d16
DTSTART:20260402T113000Z
DTEND:20260402T153000Z
LOCATION:Localisation   
CATEGORIES:Sportif
STATUS:
DESCRIPTION:<p>Encore un vent significatif annonce ce
 jeudi.</p>
 
 <p>Mais, les temperatures remontent
 legerement.</p>
 
 <p>Je vous propose le parcours <a
 href="https://www.openrunner.com/route-details/14080526"
 target="_blank">OR14080526</a> : 69km pour 560m+</p>
 
 <p>Depart FSM
 13h30 ; retour prevu 17h30.</p>
 
 <p>Merci de vous
 annoncer</p>
 
 <p>Bruno</p>
URL;VALUE=URI:https://www.ac3f.com/evenements/2026/04/02/groupe-2-un-petit-tour-pour-prendre-lair-2436198
END:VEVENT
END:VCALENDAR
