BEGIN:VCALENDAR
VERSION:2.0
PRODID:-//hacksw/handcal//NONSGML v1.0//EN
BEGIN:VEVENT
SUMMARY:Sortie groupe 3 a l'abri
UID:1d750e3e-3da6-45b2-aa04-f210b3d63687
DTSTART:20260331T113000Z
DTEND:20260331T150000Z
LOCATION:Localisation place de la salle des fetes 69270 Fontaines st Martin
CATEGORIES:Sportif
STATUS:
DESCRIPTION:<p>Demain, sauf si ca change, beaucoup de vent, a vous de
 voir, proposer un petit parcours un peu a l'abri, si vous avez un no,
 donner le moi, je le mettrais, je me decide demain</p>
 
 <p> </p>
URL;VALUE=URI:https://www.ac3f.com/evenements/2026/03/31/sortie-groupe-3-a-labri-2435154
END:VEVENT
END:VCALENDAR
