BEGIN:VCALENDAR
VERSION:2.0
PRODID:-//hacksw/handcal//NONSGML v1.0//EN
BEGIN:VEVENT
SUMMARY:Groupe Amical - Pas de sortie !
UID:d9baad3a-bb2b-4841-84cf-3f846de028e0
DTSTART:20260330T220000Z
DTEND:20260331T220000Z
LOCATION:Localisation   
CATEGORIES:Sportif
STATUS:
DESCRIPTION:<p>Les conditions meteo de demain (vent fort et
 temperatures basses), semblables a celles que certain(e)s ont connues
 lors de La Castellane, ne nous incitent pas a rouler.</p>
 
 <p>Par
 contre, reservez votre apres-midi de jeudi ...</p>
URL;VALUE=URI:https://www.ac3f.com/evenements/2026/03/31/groupe-amical-pas-de-sortie-2435516
END:VEVENT
END:VCALENDAR
