BEGIN:VCALENDAR
VERSION:2.0
PRODID:-//hacksw/handcal//NONSGML v1.0//EN
BEGIN:VEVENT
SUMMARY:Groupe 2 : St Veran, Ternand
UID:69d169d7-9993-47c8-9a3c-79e399d99853
DTSTART:20260331T113000Z
DTEND:20260331T154500Z
LOCATION:Localisation   
CATEGORIES:Sportif
STATUS:
DESCRIPTION:<p>Pour ce mardi, pas mal de vent annonce mais ca doit
 rester roulable.</p>
 
 <p>Pensez tout de meme a prendre un
 coupe-vent.</p>
 
 <p>Je vous propose d'aller dans la vallee d'Azergue
 avec une petite boucle St Veran, Ternand.</p>
 
 <p>Parcours <a
 href="https://www.openrunner.com/route-details/14440222"
 target="_blank">OR14440222</a> : 82km pour 660m+</p>
 
 <p>Depart FSM
 13h30 ; retour prevu 17h30.</p>
 
 <p>Merci de vous
 annoncer</p>
 
 <p>Bruno</p>
URL;VALUE=URI:https://www.ac3f.com/evenements/2026/03/31/groupe-2-st-veran-ternand-2435245
END:VEVENT
END:VCALENDAR
