BEGIN:VCALENDAR
VERSION:2.0
PRODID:-//hacksw/handcal//NONSGML v1.0//EN
BEGIN:VEVENT
SUMMARY:Sortie groupe 3 Parapluie pour moi
UID:ecca5380-db72-4e20-9b6f-91acddf852d6
DTSTART:20260327T230000Z
DTEND:20260328T230000Z
LOCATION:Localisation   
CATEGORIES:Sportif
STATUS:
DESCRIPTION:<p>demain, pluie tout l apres midi, si mete fiable, comme
 le gr, vous pouvez sortir le matin, organisez vous</p>
 
 <p>pensez au
 rallye de la Castellane dimanche</p>
URL;VALUE=URI:https://www.ac3f.com/evenements/2026/03/28/sortie-groupe-3-parapluie-pour-moi-2433683
END:VEVENT
END:VCALENDAR
