BEGIN:VCALENDAR
VERSION:2.0
PRODID:-//hacksw/handcal//NONSGML v1.0//EN
BEGIN:VEVENT
SUMMARY:Groupe 2 : sans moi !
UID:804fa15d-d160-49fd-b665-a8721ae0e0e8
DTSTART:20260328T083000Z
DTEND:20260328T163000Z
LOCATION:Localisation   
CATEGORIES:Sportif
STATUS:
DESCRIPTION:<p>Pour ce samedi, je suis comme Jean-Michel : je vais a
 l'ecole.</p>
 
 <p>Mais je ne bisque pas beaucoup vu la meteo
 annoncee.</p>
 
 <p>Au mieux, un petit tour le matin (10h -
 13h).</p>
 
 <p>Au pire, home-trainer, piscine ou sieste.</p>
 
 <p>A
 vous de voir</p>
 
 <p>Bruno</p>
URL;VALUE=URI:https://www.ac3f.com/evenements/2026/03/28/groupe-2-sans-moi-2433781
END:VEVENT
END:VCALENDAR
