BEGIN:VCALENDAR
VERSION:2.0
PRODID:-//hacksw/handcal//NONSGML v1.0//EN
BEGIN:VEVENT
SUMMARY:Sortie groupe 3
UID:6aa062c0-e7fd-4b19-a109-684a8ecfbc6f
DTSTART:20260319T123000Z
DTEND:20260319T170000Z
LOCATION:Localisation place de la salle des fetes 69270 Fontaines st Martin
CATEGORIES:Sportif
STATUS:
DESCRIPTION:<p>Demain 18 degres,pas de vent,  moins dur qu'hier pour
 tous ceux qui ferons l'audax, on fera le parcours de l octo 2018, en
 attendatn de faire ceux de 2026, je propose le </p>
 
 <p>no OR <a
 href="https://www.openrunner.com/route-details/7948013"
 onclick="window.open(this.href, '',
 'resizable=no,status=no,location=no,toolbar=no,menubar=no,fullscreen=yes,scrollbars=no,dependent=no');
 return false;">7948013</a>  63km 633d+</p>
 
 <p>hier trop
 nombreux,(15) si plus de 12, 2 groupes distincts avec 2
 capitaines,soucieux de garder tout le mondea l'arrivee,  des FSM
 merci</p>
URL;VALUE=URI:https://www.ac3f.com/evenements/2026/03/19/sortie-groupe-3-2430000
END:VEVENT
END:VCALENDAR
