BEGIN:VCALENDAR
VERSION:2.0
PRODID:-//hacksw/handcal//NONSGML v1.0//EN
BEGIN:VEVENT
SUMMARY:Groupe 2 : un peu de Beaujolais, sans exces
UID:9d7158e4-aac4-4d73-b94b-c41dc7d396e7
DTSTART:20260319T123000Z
DTEND:20260319T163000Z
LOCATION:Localisation   
CATEGORIES:Sportif
STATUS:
DESCRIPTION:<p>Ce jeudi, je devrais etre rentre de vacances, frais et
 dispo.</p>
 
 <p>Beau temps annonce mais temperatures encore
 fraiches.</p>
 
 <p>Je vous propose de s'aventurer un petit peu dans le
 Beaujolais.</p>
 
 <p>Parcours <a
 href="https://www.openrunner.com/route-details/14244835"
 target="_blank">OR14244835</a> : 75km pour 800m+.</p>
 
 <p>Depart FSM
 13h30 ; retour prevu 17h30.</p>
 
 <p>Merci de vous
 annoncer</p>
 
 <p>Bruno</p>
 
 <p>P.S. : et ne vous avisez pas de faire
 ce parcours mardi sans moi !!!</p>
URL;VALUE=URI:https://www.ac3f.com/evenements/2026/03/19/groupe-2-un-peu-de-beaujolais-sans-exces-2427752
END:VEVENT
END:VCALENDAR
