BEGIN:VCALENDAR
VERSION:2.0
PRODID:-//hacksw/handcal//NONSGML v1.0//EN
BEGIN:VEVENT
SUMMARY:Groupe 1: un peu de Beaujolais, sans moderation
UID:414fc070-82f9-4f52-88de-b344b859a975
DTSTART:20260319T123000Z
DTEND:20260319T164500Z
LOCATION:Localisation   
CATEGORIES:Sportif
STATUS:
DESCRIPTION:<p>Parcours inspire de celui du groupe 2, mais plus
 bossele et torture (quelques variantes aux routes zhabituelles) pour
 le plaisir de vos mollets :-)</p>
 
 <p>Parcours openrunner <a
 href="https://www.openrunner.com/route-details/23580299">23580299</a>.
 Soit 91 km et D+ 1300 m</p>
 
 <p>Depart a 13h30 de FSM. Tant pis pour
 ceux qui se pointeront la matin</p>
 
 <p>Ave le soleil garantit, que
 si tu oublies tes lunettes de soleil tu auras mal</p>
URL;VALUE=URI:https://www.ac3f.com/evenements/2026/03/19/groupe-1-un-peu-de-beaujolais-sans-moderation-2429711
END:VEVENT
END:VCALENDAR
