BEGIN:VCALENDAR
VERSION:2.0
PRODID:-//hacksw/handcal//NONSGML v1.0//EN
BEGIN:VEVENT
SUMMARY:Lac des sapins par Joncin Pilon
UID:546754c6-8efa-4824-b09e-61caad781368
DTSTART:20260317T073000Z
DTEND:20260317T170000Z
LOCATION:Localisation   
CATEGORIES:Sportif
STATUS:
DESCRIPTION:<p>Dominique nous propose une sortie a la journee, pour
 affermir les mollets</p>
 
 <p>OR = <a
 href="https://www.openrunner.com/route-details/23549265">23549265</a>,
 c'est a dire le Lac des sapins par col du Joncin et Col du
 Pilon. Soit 131 km et D+ 1800 m</p>
 
 <p><u><strong>Attention : au
 depart de la pharmacie de <span style="color:#e74c3c;">Couzon</span>,
 avec un <span style="color:#e74c3c;">depart a
 8h30</span></strong></u></p>
 
 <p>Le pique nique sera au Lac des
 Sapins. Nous n'aurons neanmoins pas le temps de nous baigner :-)</p>
URL;VALUE=URI:https://www.ac3f.com/evenements/2026/03/17/lac-des-sapins-par-joncin-pilon-2427292
END:VEVENT
END:VCALENDAR
