BEGIN:VCALENDAR
VERSION:2.0
PRODID:-//hacksw/handcal//NONSGML v1.0//EN
BEGIN:VEVENT
SUMMARY:Groupe 2 : Base aerienne en plat de resistance, puis Dombes a donf
UID:95eaa07f-8ba4-4323-988a-8ed44e0b93cd
DTSTART:20260317T123000Z
DTEND:20260317T163000Z
LOCATION:Localisation   
CATEGORIES:Sportif
STATUS:
DESCRIPTION:<p>Depart 13h30 FSM</p>
 
 <p>Perso, je ne serai pas
 present (RTT)</p>
 
 <p>Bruno</p>
 
 <p>Pour pallier cette absence, je
 vous suggere <a
 href="https://www.openrunner.com/route-details/23557202">23557202</a>,
 soit 72 km et D+830</p>
 
 <p>J'attire votre attention que ce parcours
 vous fera monter a la base aerienne avant de derouler dans la
 Dombes</p>
 
 <p>Je ne vous guiderai pas sur ce parcours car je serai
 avec Dominique sur le parcours "groupe 1" a la
 journee.</p>
 
 <p>JM </p>
URL;VALUE=URI:https://www.ac3f.com/evenements/2026/03/17/groupe-2-base-aerienne-en-plat-de-resistance-puis-dombes-a-donf-2427303
END:VEVENT
END:VCALENDAR
