BEGIN:VCALENDAR
VERSION:2.0
PRODID:-//hacksw/handcal//NONSGML v1.0//EN
BEGIN:VEVENT
SUMMARY:Groupe 2 : un petit tour en Dombes ?
UID:afb362b4-2e44-42e0-b861-40a384ac06b7
DTSTART:20260309T123000Z
DTEND:20260309T160000Z
LOCATION:Localisation   
CATEGORIES:Sportif
STATUS:
DESCRIPTION:<p>Mardi, pluie annoncee, mais beau ce lundi.</p>
 
 <p>Je
 vous propose un petit tour en Dombes, histoire de ne pas trop
 perdre.</p>
 
 <p>Parcours <a
 href="https://www.openrunner.com/route-details/10848867"
 target="_blank">OR10848867</a> : 68km pour 520m+</p>
 
 <p>Depart FSM
 13h30 ; retour prevu 17h (avant la pluie).</p>
 
 <p>Merci de vous
 annoncer</p>
 
 <p>Bruno</p>
URL;VALUE=URI:https://www.ac3f.com/evenements/2026/03/09/groupe-2-un-petit-tour-en-dombes-2425247
END:VEVENT
END:VCALENDAR
