BEGIN:VCALENDAR
VERSION:2.0
PRODID:-//hacksw/handcal//NONSGML v1.0//EN
BEGIN:VEVENT
SUMMARY:Sortie groupe 3 Beaujolais
UID:0102270e-25b5-42f9-9459-57f3c59b12b3
DTSTART:20260307T123000Z
DTEND:20260307T163000Z
LOCATION:Localisation place de la salle des fetes 69270 Fontaines st Martin
CATEGORIES:Sportif
STATUS:
DESCRIPTION:<p>demain, pour ceux qui ne feront pas le rallye des
 oiseaux,( inscrivez vous sur le site) un parcours Beaujolais OCTO
 2018</p>
 
 <p>63km 633d+</p>
 
 <p>No OR   <a
 href="https://www.openrunner.com/route-details/7948013"
 onclick="window.open(this.href, '',
 'resizable=no,status=no,location=no,toolbar=no,menubar=no,fullscreen=yes,scrollbars=no,dependent=no');
 return false;">7948013</a></p>
URL;VALUE=URI:https://www.ac3f.com/evenements/2026/03/07/sortie-groupe-3-beaujolais-2424084
END:VEVENT
END:VCALENDAR
