BEGIN:VCALENDAR
VERSION:2.0
PRODID:-//hacksw/handcal//NONSGML v1.0//EN
BEGIN:VEVENT
SUMMARY:Groupe 2 : un petit tour presque tranquille !!!
UID:90c8dde6-2b97-43d5-b9ec-cf4f97191acf
DTSTART:20260307T123000Z
DTEND:20260307T163000Z
LOCATION:Localisation   
CATEGORIES:Sportif
STATUS:
DESCRIPTION:<p>Pour ce samedi, je ne peux decemment pas faire plus
 long que le groupe 1.</p>
 
 <p>Je vous propose en consequence le
 parcours <a href="https://www.openrunner.com/route-details/13876733"
 target="_blank">OR13876733</a> : 78km pour 666m+</p>
 
 <p>Depart FSM
 13h30 ; retour prevu vers 17h30.</p>
 
 <p>Merci de vous
 annoncer</p>
 
 <p>Bruno</p>
URL;VALUE=URI:https://www.ac3f.com/evenements/2026/03/07/groupe-2-un-petit-tour-presque-tranquille-2424064
END:VEVENT
END:VCALENDAR
