BEGIN:VCALENDAR
VERSION:2.0
PRODID:-//hacksw/handcal//NONSGML v1.0//EN
BEGIN:VEVENT
SUMMARY:Groupe 1: plein Ouest
UID:837ee34e-118f-4514-92d9-151118447513
DTSTART:20260307T123000Z
DTEND:20260307T163000Z
LOCATION:Localisation   
CATEGORIES:Sportif
STATUS:
DESCRIPTION:<p>Pour ce samedi un petit risque d'humidite est
 prevu</p>
 
 <p>Je propose un parcours court mais bossele qui finira
 par les Monts d'Or, a contourner si besoin</p>
 
 <p>RDV pour depart a
 13H30, pour 80 km et D+ 1340 m => OR <a
 href="https://www.openrunner.com/route-details/22686930">22686930</a></p>
URL;VALUE=URI:https://www.ac3f.com/evenements/2026/03/07/groupe-1-plein-ouest-2423886
END:VEVENT
END:VCALENDAR
