BEGIN:VCALENDAR
VERSION:2.0
PRODID:-//hacksw/handcal//NONSGML v1.0//EN
BEGIN:VEVENT
SUMMARY:Groupe 2 : Mts d'Or - Dombes
UID:6cbcc31a-fda9-4749-ba05-5843eed58f8f
DTSTART:20260305T123000Z
DTEND:20260305T163000Z
LOCATION:Localisation   
CATEGORIES:Sportif
STATUS:
DESCRIPTION:<p>Pour ce jeudi, un peu d'originalite.</p>
 
 <p>Je vous
 propose le parcours <a
 href="https://www.openrunner.com/route-details/11836833"
 target="_blank">OR11836833</a> : 74km pour 860m+</p>
 
 <p>Depart FSM
 13h30 ; retour prevu 17h30.</p>
 
 <p>Merci de vous
 annoncer</p>
 
 <p>Bruno</p>
URL;VALUE=URI:https://www.ac3f.com/evenements/2026/03/05/groupe-2-mts-dor-dombes-2423299
END:VEVENT
END:VCALENDAR
