BEGIN:VCALENDAR
VERSION:2.0
PRODID:-//hacksw/handcal//NONSGML v1.0//EN
BEGIN:VEVENT
SUMMARY:Groupe 1 : direction Denice et Rivolet
UID:055c5832-5174-49d8-b284-25bc6d9d1d15
DTSTART:20260305T123000Z
DTEND:20260305T160000Z
LOCATION:Localisation   
CATEGORIES:Sportif
STATUS:
DESCRIPTION:<p>Je vous propose un parcours tout en douceur qui nous
 enmeera a Rivolet et Denice</p>
 
 <p>OR <a
 href="https://www.openrunner.com/route-details/23278162">23278162</a>,
 soit 85 km et D+ 925 m</p>
URL;VALUE=URI:https://www.ac3f.com/evenements/2026/03/05/groupe-1-direction-denice-et-rivolet-2423525
END:VEVENT
END:VCALENDAR
